BEGIN:VCALENDAR
VERSION:2.0
BEGIN:VEVENT
URL:https://tickets.oztix.com.au/outlet/event/6f2e5062-55c2-411d-838b-6c6223b5208a
DTSTART:20260524T090000Z
DTEND:20260524T090000Z
SUMMARY:East Capri No Luck EP Tour
DESCRIPTION:Event details: https://tickets.oztix.com.au/outlet/event/6f2e5062-55c2-411d-838b-6c6223b5208a
LOCATION:The Baso - The Abyss (Belconnen, ACT)
END:VEVENT
END:VCALENDAR