BEGIN:VCALENDAR
VERSION:2.0
BEGIN:VEVENT
URL:https://tickets.oztix.com.au/outlet/event/6ee536de-6a71-4ba8-a707-d5504c5c930a
DTSTART:20260515T110000Z
DTEND:20260515T110000Z
SUMMARY:MALWARE
DESCRIPTION:Event details: https://tickets.oztix.com.au/outlet/event/6ee536de-6a71-4ba8-a707-d5504c5c930a
LOCATION:King Street Warehouse (Newcastle, NSW)
END:VEVENT
END:VCALENDAR