BEGIN:VCALENDAR
VERSION:2.0
BEGIN:VEVENT
URL:https://tickets.oztix.com.au/outlet/event/6e8c5ac0-9c56-4d3d-863c-a556719acfea
DTSTART:20260502T080000Z
DTEND:20260502T080000Z
SUMMARY:Magic Men Sydney
DESCRIPTION:Event details: https://tickets.oztix.com.au/outlet/event/6e8c5ac0-9c56-4d3d-863c-a556719acfea
LOCATION:Shark Hotel (Sydney , NSW)
END:VEVENT
END:VCALENDAR