BEGIN:VCALENDAR
VERSION:2.0
BEGIN:VEVENT
URL:https://tickets.oztix.com.au/outlet/event/6e726583-ca53-43ef-9810-1c2da7008495
DTSTART:20260606T093000Z
DTEND:20260606T093000Z
SUMMARY:Pierce Brothers - Moonrise Album Tour
DESCRIPTION:Event details: https://tickets.oztix.com.au/outlet/event/6e726583-ca53-43ef-9810-1c2da7008495
LOCATION:The Oak & Anchor Hotel (Port Fairy, VIC)
END:VEVENT
END:VCALENDAR