BEGIN:VCALENDAR
VERSION:2.0
BEGIN:VEVENT
URL:https://tickets.oztix.com.au/outlet/event/6decf5c3-c46e-4e69-9366-7a62654fb714
DTSTART:20260809T080000Z
DTEND:20260809T080000Z
SUMMARY:Rewind 80s Mixtape Tour
DESCRIPTION:Event details: https://tickets.oztix.com.au/outlet/event/6decf5c3-c46e-4e69-9366-7a62654fb714
LOCATION:Mo's Desert Clubhouse (Burleigh Heads, QLD)
END:VEVENT
END:VCALENDAR