BEGIN:VCALENDAR
VERSION:2.0
BEGIN:VEVENT
URL:https://tickets.oztix.com.au/outlet/event/6da60872-e8a8-4c98-b2ba-3089d2dd3b0f
DTSTART:20260430T093000Z
DTEND:20260430T093000Z
SUMMARY:AND THE CLOUDS MOVED ON, Flowers In The Attic, Kambio @ The Tote (Upstairs)
DESCRIPTION:Event details: https://tickets.oztix.com.au/outlet/event/6da60872-e8a8-4c98-b2ba-3089d2dd3b0f
LOCATION:The Tote - Upstairs (Collingwood, VIC)
END:VEVENT
END:VCALENDAR