BEGIN:VCALENDAR
VERSION:2.0
BEGIN:VEVENT
URL:https://tickets.oztix.com.au/outlet/event/6d446585-5169-415b-82c9-b575ce845d0a
DTSTART:20260712T040000Z
DTEND:20260712T040000Z
SUMMARY:Beatles Legacy with Special Guest Denis Walter
DESCRIPTION:Event details: https://tickets.oztix.com.au/outlet/event/6d446585-5169-415b-82c9-b575ce845d0a
LOCATION:Hepburn Palais (Hepburn Springs, VIC)
END:VEVENT
END:VCALENDAR