BEGIN:VCALENDAR
VERSION:2.0
BEGIN:VEVENT
URL:https://tickets.oztix.com.au/outlet/event/6cfcd33b-5a84-4239-a75a-2a17cf6bd716
DTSTART:20260503T080000Z
DTEND:20260503T080000Z
SUMMARY:Shady Nasty
DESCRIPTION:Event details: https://tickets.oztix.com.au/outlet/event/6cfcd33b-5a84-4239-a75a-2a17cf6bd716
LOCATION:Vic on The Park Hotel (Marrickville, NSW)
END:VEVENT
END:VCALENDAR