BEGIN:VCALENDAR
VERSION:2.0
BEGIN:VEVENT
URL:https://tickets.oztix.com.au/outlet/event/6c2b8f01-3aeb-4f38-96f6-ceeb6ed4e09d
DTSTART:20260529T100000Z
DTEND:20260529T100000Z
SUMMARY:The Unknowns at Cactus Room
DESCRIPTION:Event details: https://tickets.oztix.com.au/outlet/event/6c2b8f01-3aeb-4f38-96f6-ceeb6ed4e09d
LOCATION:Cactus Room (Thornbury, VIC)
END:VEVENT
END:VCALENDAR