BEGIN:VCALENDAR
VERSION:2.0
BEGIN:VEVENT
URL:https://tickets.oztix.com.au/outlet/event/6be53305-311c-4b0d-96d5-439b69f642b3
DTSTART:20260422T083000Z
DTEND:20260422T083000Z
SUMMARY:2026 Optometry Educational Dinner (April)
DESCRIPTION:Event details: https://tickets.oztix.com.au/outlet/event/6be53305-311c-4b0d-96d5-439b69f642b3
LOCATION:Wade Core Function Centre (Carina Leagues Club) (Carina , QLD)
END:VEVENT
END:VCALENDAR