BEGIN:VCALENDAR
VERSION:2.0
BEGIN:VEVENT
URL:https://tickets.oztix.com.au/outlet/event/6b4b1de7-5e40-4596-b4f6-2258f03f9459
DTSTART:20260516T110000Z
DTEND:20260516T110000Z
SUMMARY:Club Serpentine
DESCRIPTION:Event details: https://tickets.oztix.com.au/outlet/event/6b4b1de7-5e40-4596-b4f6-2258f03f9459
LOCATION:Burdekin Hotel (Darlinghurst, NSW)
END:VEVENT
END:VCALENDAR