BEGIN:VCALENDAR
VERSION:2.0
BEGIN:VEVENT
URL:https://tickets.oztix.com.au/outlet/event/69dfa9db-4041-44d4-971d-4353b27d8201
DTSTART:20260425T090000Z
DTEND:20260425T090000Z
SUMMARY:Captain Pres. IN2POL b2b Ricky Nord
DESCRIPTION:Event details: https://tickets.oztix.com.au/outlet/event/69dfa9db-4041-44d4-971d-4353b27d8201
LOCATION:Captain Bar (Geelong , VIC)
END:VEVENT
END:VCALENDAR