BEGIN:VCALENDAR
VERSION:2.0
BEGIN:VEVENT
URL:https://tickets.oztix.com.au/outlet/event/6922ca19-b85b-4050-8c27-b027305fc0cd
DTSTART:20260503T080000Z
DTEND:20260503T080000Z
SUMMARY:360 - BacknForth Tour
DESCRIPTION:Event details: https://tickets.oztix.com.au/outlet/event/6922ca19-b85b-4050-8c27-b027305fc0cd
LOCATION:McGuires Hotel (Mackay, QLD)
END:VEVENT
END:VCALENDAR