BEGIN:VCALENDAR
VERSION:2.0
BEGIN:VEVENT
URL:https://tickets.oztix.com.au/outlet/event/67d437d2-f9dd-41a6-a65f-58934207ec0f
DTSTART:20260726T060000Z
DTEND:20260726T060000Z
SUMMARY:Alex Lloyd
DESCRIPTION:Event details: https://tickets.oztix.com.au/outlet/event/67d437d2-f9dd-41a6-a65f-58934207ec0f
LOCATION:MEENIYAN TOWN HALL (Meeniyan, VIC)
END:VEVENT
END:VCALENDAR