BEGIN:VCALENDAR
VERSION:2.0
BEGIN:VEVENT
URL:https://tickets.oztix.com.au/outlet/event/672c343b-6ace-412a-8b76-67f110f053d0
DTSTART:20260510T060000Z
DTEND:20260510T060000Z
SUMMARY:Mother's Day Screening: MAMMA MIA! (2008)
DESCRIPTION:Event details: https://tickets.oztix.com.au/outlet/event/672c343b-6ace-412a-8b76-67f110f053d0
LOCATION:Theatre Royal, Castlemaine - Cinema (Castlemaine, VIC)
END:VEVENT
END:VCALENDAR