BEGIN:VCALENDAR
VERSION:2.0
BEGIN:VEVENT
URL:https://tickets.oztix.com.au/outlet/event/66f7b1ab-c0ec-4548-a9dd-cf65c32c3d4d
DTSTART:20260509T040000Z
DTEND:20260509T040000Z
SUMMARY:Evvy George & The Big Bird Band - Sweet Victoria Single Launch
DESCRIPTION:Event details: https://tickets.oztix.com.au/outlet/event/66f7b1ab-c0ec-4548-a9dd-cf65c32c3d4d
LOCATION:Shotkickers (Thornbury, VIC)
END:VEVENT
END:VCALENDAR