BEGIN:VCALENDAR
VERSION:2.0
BEGIN:VEVENT
URL:https://tickets.oztix.com.au/outlet/event/66a80020-b0f7-462d-8ea5-4e61b600723c
DTSTART:20260424T093000Z
DTEND:20260424T093000Z
SUMMARY:Hawthorne Heights If Only You Were Lonely Australian Anniversary Tour
DESCRIPTION:Event details: https://tickets.oztix.com.au/outlet/event/66a80020-b0f7-462d-8ea5-4e61b600723c
LOCATION:The Gov - The Venue (Hindmarsh, SA)
END:VEVENT
END:VCALENDAR