BEGIN:VCALENDAR
VERSION:2.0
BEGIN:VEVENT
URL:https://tickets.oztix.com.au/outlet/event/65f2737e-4196-4945-8605-082ecef8d5ba
DTSTART:20260423T083000Z
DTEND:20260423T083000Z
SUMMARY:Austin's Ambrosia x Captain Quiz Night - 23/04/26
DESCRIPTION:Event details: https://tickets.oztix.com.au/outlet/event/65f2737e-4196-4945-8605-082ecef8d5ba
LOCATION:Captain Bar (Geelong , VIC)
END:VEVENT
END:VCALENDAR