BEGIN:VCALENDAR
VERSION:2.0
BEGIN:VEVENT
URL:https://tickets.oztix.com.au/outlet/event/65d988f2-b9a3-44ea-a348-720ca672cdd5
DTSTART:20260627T100000Z
DTEND:20260627T100000Z
SUMMARY:DALLAS FRASCA | SEND OFF SHOW
DESCRIPTION:Event details: https://tickets.oztix.com.au/outlet/event/65d988f2-b9a3-44ea-a348-720ca672cdd5
LOCATION:Espy Basement (St Kilda, VIC)
END:VEVENT
END:VCALENDAR