BEGIN:VCALENDAR
VERSION:2.0
BEGIN:VEVENT
URL:https://tickets.oztix.com.au/outlet/event/65452cc8-c945-4993-851b-565ddc653779
DTSTART:20260522T093000Z
DTEND:20260522T093000Z
SUMMARY:THE DETOURS | LIVE AT THE CATFISH | FITZROY, MAY 22ND.
DESCRIPTION:Event details: https://tickets.oztix.com.au/outlet/event/65452cc8-c945-4993-851b-565ddc653779
LOCATION:The Catfish  (Fitzroy, VIC)
END:VEVENT
END:VCALENDAR