BEGIN:VCALENDAR
VERSION:2.0
BEGIN:VEVENT
URL:https://tickets.oztix.com.au/outlet/event/645e1899-ffff-497f-8b7d-d354f5b8be6c
DTSTART:20260501T062000Z
DTEND:20260503T110000Z
SUMMARY:Nimbin MardiGrass 2026
DESCRIPTION:Event details: https://tickets.oztix.com.au/outlet/event/645e1899-ffff-497f-8b7d-d354f5b8be6c
LOCATION:Nimbin Village (Nimbin , NSW)
END:VEVENT
END:VCALENDAR