BEGIN:VCALENDAR
VERSION:2.0
BEGIN:VEVENT
URL:https://tickets.oztix.com.au/outlet/event/643290ac-0e4f-4ab8-96d1-80f7a42dd60c
DTSTART:20260613T100000Z
DTEND:20260613T100000Z
SUMMARY:Ash Grunwald Live
DESCRIPTION:Event details: https://tickets.oztix.com.au/outlet/event/643290ac-0e4f-4ab8-96d1-80f7a42dd60c
LOCATION:The Brewery @ The Imperial Hotel Eumundi (Eumundi, QLD)
END:VEVENT
END:VCALENDAR