BEGIN:VCALENDAR
VERSION:2.0
BEGIN:VEVENT
URL:https://tickets.oztix.com.au/outlet/event/634957d4-2271-487a-93a4-25d173f634ea
DTSTART:20260508T080000Z
DTEND:20260508T080000Z
SUMMARY:The Versace Boys @ Shout - Great Southern Nights
DESCRIPTION:Event details: https://tickets.oztix.com.au/outlet/event/634957d4-2271-487a-93a4-25d173f634ea
LOCATION:Shout Brewing (Islington, NSW)
END:VEVENT
END:VCALENDAR