BEGIN:VCALENDAR
VERSION:2.0
BEGIN:VEVENT
URL:https://tickets.oztix.com.au/outlet/event/628ec443-a9de-4295-a96b-9627879111b3
DTSTART:20261128T083000Z
DTEND:20261128T083000Z
SUMMARY:Fischer-Z
DESCRIPTION:Event details: https://tickets.oztix.com.au/outlet/event/628ec443-a9de-4295-a96b-9627879111b3
LOCATION:Max Watt's Melbourne (Melbourne, VIC)
END:VEVENT
END:VCALENDAR