BEGIN:VCALENDAR
VERSION:2.0
BEGIN:VEVENT
URL:https://tickets.oztix.com.au/outlet/event/62820f45-9ac2-42f8-8c9a-0f926202a54f
DTSTART:20260424T090000Z
DTEND:20260424T090000Z
SUMMARY:Arkangel Down South Tour w/Seek Misery & Tranquility Unknown ALL AGES
DESCRIPTION:Event details: https://tickets.oztix.com.au/outlet/event/62820f45-9ac2-42f8-8c9a-0f926202a54f
LOCATION:Pub Rock Diner (Devonport, TAS)
END:VEVENT
END:VCALENDAR