BEGIN:VCALENDAR
VERSION:2.0
BEGIN:VEVENT
URL:https://tickets.oztix.com.au/outlet/event/62448fb5-4e2a-4f5e-af20-259354c0db84
DTSTART:20260704T080000Z
DTEND:20260704T080000Z
SUMMARY:Magic Men Gold Coast - Surfers Paradise
DESCRIPTION:Event details: https://tickets.oztix.com.au/outlet/event/62448fb5-4e2a-4f5e-af20-259354c0db84
LOCATION:Platinum Nightclub (Surfers Paradise, QLD)
END:VEVENT
END:VCALENDAR