BEGIN:VCALENDAR
VERSION:2.0
BEGIN:VEVENT
URL:https://tickets.oztix.com.au/outlet/event/605c0a83-a772-4525-b6fe-f57e9a740f67
DTSTART:20260502T110000Z
DTEND:20260502T110000Z
SUMMARY:Clay Western
DESCRIPTION:Event details: https://tickets.oztix.com.au/outlet/event/605c0a83-a772-4525-b6fe-f57e9a740f67
LOCATION:Vic on The Park Hotel (Marrickville, NSW)
END:VEVENT
END:VCALENDAR