BEGIN:VCALENDAR
VERSION:2.0
BEGIN:VEVENT
URL:https://tickets.oztix.com.au/outlet/event/5f99a891-a505-49f4-8244-461ed700974c
DTSTART:20261016T093000Z
DTEND:20261016T093000Z
SUMMARY:GUTTERMOUTH - "ONE LAST TIME" FARWELL TOUR"
DESCRIPTION:Event details: https://tickets.oztix.com.au/outlet/event/5f99a891-a505-49f4-8244-461ed700974c
LOCATION:Coolangatta Hotel (Coolangatta, Gold Coast, QLD)
END:VEVENT
END:VCALENDAR