BEGIN:VCALENDAR
VERSION:2.0
BEGIN:VEVENT
URL:https://tickets.oztix.com.au/outlet/event/5f8ace03-4552-451f-8002-efe50c3430dd
DTSTART:20260509T033000Z
DTEND:20260509T033000Z
SUMMARY:The Corduroys - Live at the Bergy Bandroom
DESCRIPTION:Event details: https://tickets.oztix.com.au/outlet/event/5f8ace03-4552-451f-8002-efe50c3430dd
LOCATION:Bergy Bandroom (Brunswick, VIC)
END:VEVENT
END:VCALENDAR