BEGIN:VCALENDAR
VERSION:2.0
BEGIN:VEVENT
URL:https://tickets.oztix.com.au/outlet/event/5f74531c-4133-4a7c-b88e-c88d090f76d9
DTSTART:20260523T063000Z
DTEND:20260523T063000Z
SUMMARY:Akasa
DESCRIPTION:Event details: https://tickets.oztix.com.au/outlet/event/5f74531c-4133-4a7c-b88e-c88d090f76d9
LOCATION:Railway Hotel Fitzroy North (Fitzroy North, VIC)
END:VEVENT
END:VCALENDAR