BEGIN:VCALENDAR
VERSION:2.0
BEGIN:VEVENT
URL:https://tickets.oztix.com.au/outlet/event/5d019a90-d402-4c3f-b409-616982b7efb1
DTSTART:20260501T120000Z
DTEND:20260501T120000Z
SUMMARY:Boyboy - Crash (Side B) EP Launch
DESCRIPTION:Event details: https://tickets.oztix.com.au/outlet/event/5d019a90-d402-4c3f-b409-616982b7efb1
LOCATION:The Bird (Northbridge, Perth, WA)
END:VEVENT
END:VCALENDAR