BEGIN:VCALENDAR
VERSION:2.0
BEGIN:VEVENT
URL:https://tickets.oztix.com.au/outlet/event/5cc91596-bbee-4b01-950f-50716ffa2056
DTSTART:20260430T084500Z
DTEND:20260430T084500Z
SUMMARY:Spite (usa) Australian Tour 2026
DESCRIPTION:Event details: https://tickets.oztix.com.au/outlet/event/5cc91596-bbee-4b01-950f-50716ffa2056
LOCATION:Max Watt's Melbourne (Melbourne, VIC)
END:VEVENT
END:VCALENDAR