BEGIN:VCALENDAR
VERSION:2.0
BEGIN:VEVENT
URL:https://tickets.oztix.com.au/outlet/event/5bdd2f18-fbcd-4dc9-9296-c95f396762fe
DTSTART:20260425T100000Z
DTEND:20260425T100000Z
SUMMARY:Unlimited Peppers Tribute Show
DESCRIPTION:Event details: https://tickets.oztix.com.au/outlet/event/5bdd2f18-fbcd-4dc9-9296-c95f396762fe
LOCATION:Hound & Stag Brewing Co. (Arundel, QLD)
END:VEVENT
END:VCALENDAR