BEGIN:VCALENDAR
VERSION:2.0
BEGIN:VEVENT
URL:https://tickets.oztix.com.au/outlet/event/5b44c241-9beb-4a6b-9800-1d80092f232a
DTSTART:20260604T090000Z
DTEND:20260604T090000Z
SUMMARY:Daisy Kilbourne - All The Hurt Album Tour
DESCRIPTION:Event details: https://tickets.oztix.com.au/outlet/event/5b44c241-9beb-4a6b-9800-1d80092f232a
LOCATION:Low 302 (Surry Hills, NSW)
END:VEVENT
END:VCALENDAR