BEGIN:VCALENDAR
VERSION:2.0
BEGIN:VEVENT
URL:https://tickets.oztix.com.au/outlet/event/59de858a-484e-4a67-8cb7-6aba1bb7a308
DTSTART:20260508T100000Z
DTEND:20260508T100000Z
SUMMARY:Todd Kem & Janie Gordon
DESCRIPTION:Event details: https://tickets.oztix.com.au/outlet/event/59de858a-484e-4a67-8cb7-6aba1bb7a308
LOCATION:Wesley Anne (Northcote, VIC)
END:VEVENT
END:VCALENDAR