BEGIN:VCALENDAR
VERSION:2.0
BEGIN:VEVENT
URL:https://tickets.oztix.com.au/outlet/event/58d60b13-abaa-49eb-b57a-736d5d518c56
DTSTART:20260704T090000Z
DTEND:20260704T090000Z
SUMMARY:LUCA BRASI - ITIAWGTB 10 YEAR ANNIVERSARY TOUR 2026 | MACKAY
DESCRIPTION:Event details: https://tickets.oztix.com.au/outlet/event/58d60b13-abaa-49eb-b57a-736d5d518c56
LOCATION:McGuires Hotel (Mackay, QLD)
END:VEVENT
END:VCALENDAR