BEGIN:VCALENDAR
VERSION:2.0
BEGIN:VEVENT
URL:https://tickets.oztix.com.au/outlet/event/5861d834-26cf-48fd-9924-4faf940f60ca
DTSTART:20260426T093000Z
DTEND:20260426T093000Z
SUMMARY:John Maus
DESCRIPTION:Event details: https://tickets.oztix.com.au/outlet/event/5861d834-26cf-48fd-9924-4faf940f60ca
LOCATION:Max Watt's Melbourne (Melbourne, VIC)
END:VEVENT
END:VCALENDAR