BEGIN:VCALENDAR
VERSION:2.0
BEGIN:VEVENT
URL:https://tickets.oztix.com.au/outlet/event/57f0d52a-9f45-4d81-aefc-8a762f803231
DTSTART:20260515T100000Z
DTEND:20260515T100000Z
SUMMARY:Chadley's Silver Spurs at The Bridge Hotel
DESCRIPTION:Event details: https://tickets.oztix.com.au/outlet/event/57f0d52a-9f45-4d81-aefc-8a762f803231
LOCATION:The Bridge Hotel, Castlemaine (Castlemaine, VIC)
END:VEVENT
END:VCALENDAR