BEGIN:VCALENDAR
VERSION:2.0
BEGIN:VEVENT
URL:https://tickets.oztix.com.au/outlet/event/57ea7d2c-72c5-4e87-a8b7-793c851de44c
DTSTART:20260425T083000Z
DTEND:20260425T083000Z
SUMMARY:HARDGORE 2026 ft. SCATTERED LIMBS
DESCRIPTION:Event details: https://tickets.oztix.com.au/outlet/event/57ea7d2c-72c5-4e87-a8b7-793c851de44c
LOCATION:The Workers Club (Fitzroy, VIC)
END:VEVENT
END:VCALENDAR