BEGIN:VCALENDAR
VERSION:2.0
BEGIN:VEVENT
URL:https://tickets.oztix.com.au/outlet/event/5571c901-2cf3-40ff-9085-9d8953f1f180
DTSTART:20260802T070000Z
DTEND:20260802T070000Z
SUMMARY:Tiffany Grace - Ripples in Time Tour 2026
DESCRIPTION:Event details: https://tickets.oztix.com.au/outlet/event/5571c901-2cf3-40ff-9085-9d8953f1f180
LOCATION:The Alley (Yeppoon, QLD)
END:VEVENT
END:VCALENDAR