BEGIN:VCALENDAR
VERSION:2.0
BEGIN:VEVENT
URL:https://tickets.oztix.com.au/outlet/event/552280ea-ca5d-4402-9672-31da718c0cc7
DTSTART:20260712T043000Z
DTEND:20260712T043000Z
SUMMARY:Cut Worms (USA)
DESCRIPTION:Event details: https://tickets.oztix.com.au/outlet/event/552280ea-ca5d-4402-9672-31da718c0cc7
LOCATION:The Bridge Hotel, Castlemaine (Castlemaine, VIC)
END:VEVENT
END:VCALENDAR