BEGIN:VCALENDAR
VERSION:2.0
BEGIN:VEVENT
URL:https://tickets.oztix.com.au/outlet/event/550ace0a-0d3a-41cb-801b-5e448bdfe387
DTSTART:20260515T093000Z
DTEND:20260515T093000Z
SUMMARY:Casey Donovan | THIS IS ME
DESCRIPTION:Event details: https://tickets.oztix.com.au/outlet/event/550ace0a-0d3a-41cb-801b-5e448bdfe387
LOCATION:Belmont 16s Sailing Club (Belmont, NSW)
END:VEVENT
END:VCALENDAR