BEGIN:VCALENDAR
VERSION:2.0
BEGIN:VEVENT
URL:https://tickets.oztix.com.au/outlet/event/54a42a8b-669c-476f-a0d5-9895ffc60ae2
DTSTART:20260508T090000Z
DTEND:20260508T090000Z
SUMMARY:Beanstalk (EP Launch) + 26 Street + Soggy Weetbix
DESCRIPTION:Event details: https://tickets.oztix.com.au/outlet/event/54a42a8b-669c-476f-a0d5-9895ffc60ae2
LOCATION:Caringbah Hotel (Caringbah, NSW)
END:VEVENT
END:VCALENDAR