BEGIN:VCALENDAR
VERSION:2.0
BEGIN:VEVENT
URL:https://tickets.oztix.com.au/outlet/event/54a1a238-897e-461b-b666-4b55419f9139
DTSTART:20260424T090000Z
DTEND:20260424T090000Z
SUMMARY:TIJUANA CARTEL
DESCRIPTION:Event details: https://tickets.oztix.com.au/outlet/event/54a1a238-897e-461b-b666-4b55419f9139
LOCATION:Shoal Bay Country Club (Shoal Bay, NSW)
END:VEVENT
END:VCALENDAR