BEGIN:VCALENDAR
VERSION:2.0
BEGIN:VEVENT
URL:https://tickets.oztix.com.au/outlet/event/545e3b9b-d9d9-480d-9dc4-f18ff0c2e71d
DTSTART:20260424T093000Z
DTEND:20260424T093000Z
SUMMARY:Al Matcott & The Forever Band
DESCRIPTION:Event details: https://tickets.oztix.com.au/outlet/event/545e3b9b-d9d9-480d-9dc4-f18ff0c2e71d
LOCATION:Railway Hotel Fitzroy North (Fitzroy North, VIC)
END:VEVENT
END:VCALENDAR