BEGIN:VCALENDAR
VERSION:2.0
BEGIN:VEVENT
URL:https://tickets.oztix.com.au/outlet/event/53aa59d1-b3ab-4965-b404-cae724aeb06e
DTSTART:20260607T063000Z
DTEND:20260607T063000Z
SUMMARY:Nick Vulture LP Launch
DESCRIPTION:Event details: https://tickets.oztix.com.au/outlet/event/53aa59d1-b3ab-4965-b404-cae724aeb06e
LOCATION:The Wheatsheaf Hotel (Thebarton, SA)
END:VEVENT
END:VCALENDAR