BEGIN:VCALENDAR
VERSION:2.0
BEGIN:VEVENT
URL:https://tickets.oztix.com.au/outlet/event/529eca2b-c0ff-49d0-acb8-7074f3e98c9c
DTSTART:20260523T110000Z
DTEND:20260523T110000Z
SUMMARY:Jane Dire
DESCRIPTION:Event details: https://tickets.oztix.com.au/outlet/event/529eca2b-c0ff-49d0-acb8-7074f3e98c9c
LOCATION:Vic on The Park Hotel (Marrickville, NSW)
END:VEVENT
END:VCALENDAR