BEGIN:VCALENDAR
VERSION:2.0
BEGIN:VEVENT
URL:https://tickets.oztix.com.au/outlet/event/52322220-3604-4eed-80b3-07c3526285ad
DTSTART:20260618T093000Z
DTEND:20260618T093000Z
SUMMARY:BLACKWATER HOLYLIGHT (USA)
DESCRIPTION:Event details: https://tickets.oztix.com.au/outlet/event/52322220-3604-4eed-80b3-07c3526285ad
LOCATION:Crowbar Sydney (Leichhardt, NSW)
END:VEVENT
END:VCALENDAR