BEGIN:VCALENDAR
VERSION:2.0
BEGIN:VEVENT
URL:https://tickets.oztix.com.au/outlet/event/50ca70c9-dc9c-415e-ac0a-f1b328b9f79c
DTSTART:20260523T090000Z
DTEND:20260523T090000Z
SUMMARY:Milly Strange - Vinyl Release Show
DESCRIPTION:Event details: https://tickets.oztix.com.au/outlet/event/50ca70c9-dc9c-415e-ac0a-f1b328b9f79c
LOCATION:Bell City Takeaway (Preston , VIC)
END:VEVENT
END:VCALENDAR