BEGIN:VCALENDAR
VERSION:2.0
BEGIN:VEVENT
URL:https://tickets.oztix.com.au/outlet/event/502bfbe4-9744-4e16-a94a-d79c304770aa
DTSTART:20260606T093000Z
DTEND:20260606T093000Z
SUMMARY:THESE FOUR WALLS W/ VERONA LIGHTS + SPIDER RICO
DESCRIPTION:Event details: https://tickets.oztix.com.au/outlet/event/502bfbe4-9744-4e16-a94a-d79c304770aa
LOCATION:The Catfish  (Fitzroy, VIC)
END:VEVENT
END:VCALENDAR